BEGIN:VCALENDAR
VERSION:2.0
PRODID:-//St. Joan of Arc Catholic School - ECPv6.15.20//NONSGML v1.0//EN
CALSCALE:GREGORIAN
METHOD:PUBLISH
X-WR-CALNAME:St. Joan of Arc Catholic School
X-ORIGINAL-URL:https://www.sjacatholic.org
X-WR-CALDESC:Events for St. Joan of Arc Catholic School
REFRESH-INTERVAL;VALUE=DURATION:PT1H
X-Robots-Tag:noindex
X-PUBLISHED-TTL:PT1H
BEGIN:VTIMEZONE
TZID:America/Chicago
BEGIN:DAYLIGHT
TZOFFSETFROM:-0600
TZOFFSETTO:-0500
TZNAME:CDT
DTSTART:20250309T080000
END:DAYLIGHT
BEGIN:STANDARD
TZOFFSETFROM:-0500
TZOFFSETTO:-0600
TZNAME:CST
DTSTART:20251102T070000
END:STANDARD
BEGIN:DAYLIGHT
TZOFFSETFROM:-0600
TZOFFSETTO:-0500
TZNAME:CDT
DTSTART:20260308T080000
END:DAYLIGHT
BEGIN:STANDARD
TZOFFSETFROM:-0500
TZOFFSETTO:-0600
TZNAME:CST
DTSTART:20261101T070000
END:STANDARD
BEGIN:DAYLIGHT
TZOFFSETFROM:-0600
TZOFFSETTO:-0500
TZNAME:CDT
DTSTART:20270314T080000
END:DAYLIGHT
BEGIN:STANDARD
TZOFFSETFROM:-0500
TZOFFSETTO:-0600
TZNAME:CST
DTSTART:20271107T070000
END:STANDARD
END:VTIMEZONE
BEGIN:VEVENT
DTSTART;VALUE=DATE:20260306
DTEND;VALUE=DATE:20260307
DTSTAMP:20260425T211408
CREATED:20251008T213515Z
LAST-MODIFIED:20260227T224023Z
UID:855-1772755200-1772841599@www.sjacatholic.org
SUMMARY:SCCS 8th Grade Career Fair
DESCRIPTION:Join with Google Meet: https://meet.google.com/ien-ihhv-cgw\nOr dial: (US) +1 307-314-2246 PIN: 554163030#\nLearn more about Meet at: https://support.google.com/a/users/answer/9282720
URL:https://www.sjacatholic.org/event/sccs-8th-grade-career-fair/
END:VEVENT
END:VCALENDAR