BEGIN:VCALENDAR
VERSION:2.0
PRODID:-//St. Joan of Arc Catholic School - ECPv6.15.20//NONSGML v1.0//EN
CALSCALE:GREGORIAN
METHOD:PUBLISH
X-WR-CALNAME:St. Joan of Arc Catholic School
X-ORIGINAL-URL:https://www.sjacatholic.org
X-WR-CALDESC:Events for St. Joan of Arc Catholic School
REFRESH-INTERVAL;VALUE=DURATION:PT1H
X-Robots-Tag:noindex
X-PUBLISHED-TTL:PT1H
BEGIN:VTIMEZONE
TZID:America/Chicago
BEGIN:DAYLIGHT
TZOFFSETFROM:-0600
TZOFFSETTO:-0500
TZNAME:CDT
DTSTART:20250309T080000
END:DAYLIGHT
BEGIN:STANDARD
TZOFFSETFROM:-0500
TZOFFSETTO:-0600
TZNAME:CST
DTSTART:20251102T070000
END:STANDARD
BEGIN:DAYLIGHT
TZOFFSETFROM:-0600
TZOFFSETTO:-0500
TZNAME:CDT
DTSTART:20260308T080000
END:DAYLIGHT
BEGIN:STANDARD
TZOFFSETFROM:-0500
TZOFFSETTO:-0600
TZNAME:CST
DTSTART:20261101T070000
END:STANDARD
BEGIN:DAYLIGHT
TZOFFSETFROM:-0600
TZOFFSETTO:-0500
TZNAME:CDT
DTSTART:20270314T080000
END:DAYLIGHT
BEGIN:STANDARD
TZOFFSETFROM:-0500
TZOFFSETTO:-0600
TZNAME:CST
DTSTART:20271107T070000
END:STANDARD
END:VTIMEZONE
BEGIN:VEVENT
DTSTART;TZID=America/Chicago:20260505T081500
DTEND;TZID=America/Chicago:20260505T091500
DTSTAMP:20260422T113006
CREATED:20251023T194225Z
LAST-MODIFIED:20260422T154045Z
UID:1964-1777968900-1777972500@www.sjacatholic.org
SUMMARY:Coffee with the Principal (Commons)
DESCRIPTION:
URL:https://www.sjacatholic.org/event/coffee-with-the-principal-commons-7/
END:VEVENT
END:VCALENDAR